BEGIN:VCALENDAR
VERSION:2.0
PRODID:-//Kansas City Blues Society - ECPv6.15.18//NONSGML v1.0//EN
CALSCALE:GREGORIAN
METHOD:PUBLISH
X-WR-CALNAME:Kansas City Blues Society
X-ORIGINAL-URL:https://www.blueskc.org
X-WR-CALDESC:Events for Kansas City Blues Society
REFRESH-INTERVAL;VALUE=DURATION:PT1H
X-Robots-Tag:noindex
X-PUBLISHED-TTL:PT1H
BEGIN:VTIMEZONE
TZID:America/Chicago
BEGIN:DAYLIGHT
TZOFFSETFROM:-0600
TZOFFSETTO:-0500
TZNAME:CDT
DTSTART:20250309T080000
END:DAYLIGHT
BEGIN:STANDARD
TZOFFSETFROM:-0500
TZOFFSETTO:-0600
TZNAME:CST
DTSTART:20251102T070000
END:STANDARD
BEGIN:DAYLIGHT
TZOFFSETFROM:-0600
TZOFFSETTO:-0500
TZNAME:CDT
DTSTART:20260308T080000
END:DAYLIGHT
BEGIN:STANDARD
TZOFFSETFROM:-0500
TZOFFSETTO:-0600
TZNAME:CST
DTSTART:20261101T070000
END:STANDARD
BEGIN:DAYLIGHT
TZOFFSETFROM:-0600
TZOFFSETTO:-0500
TZNAME:CDT
DTSTART:20270314T080000
END:DAYLIGHT
BEGIN:STANDARD
TZOFFSETFROM:-0500
TZOFFSETTO:-0600
TZNAME:CST
DTSTART:20271107T070000
END:STANDARD
END:VTIMEZONE
BEGIN:VEVENT
DTSTART;TZID=America/Chicago:20260422T190000
DTEND;TZID=America/Chicago:20260422T220000
DTSTAMP:20260422T032256
CREATED:20260421T041414Z
LAST-MODIFIED:20260421T041417Z
UID:11858-1776884400-1776895200@www.blueskc.org
SUMMARY:Howard Mahan & Friends
DESCRIPTION:Fiery\, passionate guitar and vocals with a touch of rock ‘n’ roll! Every other Wednesday at BB’s.
URL:https://www.blueskc.org/event/howard-mahan-friends/
LOCATION:BB’s Lawnside BBQ\, 1205 E 85th St\, Kansas City\, MO\, 64131\, United States
CATEGORIES:Musician Event
ATTACH;FMTTYPE=image/webp:https://www.blueskc.org/wp-content/uploads/2026/01/BBs_logo.webp
END:VEVENT
BEGIN:VEVENT
DTSTART;TZID=America/Chicago:20260422T190000
DTEND;TZID=America/Chicago:20260422T220000
DTSTAMP:20260422T032256
CREATED:20260421T043532Z
LAST-MODIFIED:20260421T043535Z
UID:11867-1776884400-1776895200@www.blueskc.org
SUMMARY:Old No. 5's
DESCRIPTION:Get ready for an unforgettable night\, KC! The Old No. 5s are rocking BB’s once again!
URL:https://www.blueskc.org/event/old-no-5s/
LOCATION:BB’s Lawnside BBQ\, 1205 E 85th St\, Kansas City\, MO\, 64131\, United States
CATEGORIES:Musician Event
ATTACH;FMTTYPE=image/webp:https://www.blueskc.org/wp-content/uploads/2026/01/BBs_logo.webp
END:VEVENT
BEGIN:VEVENT
DTSTART;TZID=America/Chicago:20260422T190000
DTEND;TZID=America/Chicago:20260422T220000
DTSTAMP:20260422T032256
CREATED:20260421T050045Z
LAST-MODIFIED:20260421T050100Z
UID:11875-1776884400-1776895200@www.blueskc.org
SUMMARY:Women of the Blues
DESCRIPTION:The 1909 Club launches a powerful new series with the long-standing Blues Experience with Nick Schnebelen — this time spotlighting the women of the Blues. They’re celebrating the incredible female artists shaping the sound of our region with soul\, grit\, and unforgettable performances. Kicking things off April 22\, with the dynamic Brigett Owens.
URL:https://www.blueskc.org/event/women-of-the-blues/
LOCATION:The 1909 Club at Libations & Company\, 25 SE 3rd Street\, Lees Summit\, MO\, 64063\, United States
CATEGORIES:Musician Event
ATTACH;FMTTYPE=image/png:https://www.blueskc.org/wp-content/uploads/2023/08/1909-Club-Logo-1-transparent.png
END:VEVENT
END:VCALENDAR