BEGIN:VCALENDAR
VERSION:2.0
PRODID:-//Kansas City Blues Society - ECPv6.15.18//NONSGML v1.0//EN
CALSCALE:GREGORIAN
METHOD:PUBLISH
X-WR-CALNAME:Kansas City Blues Society
X-ORIGINAL-URL:https://www.blueskc.org
X-WR-CALDESC:Events for Kansas City Blues Society
REFRESH-INTERVAL;VALUE=DURATION:PT1H
X-Robots-Tag:noindex
X-PUBLISHED-TTL:PT1H
BEGIN:VTIMEZONE
TZID:America/Chicago
BEGIN:DAYLIGHT
TZOFFSETFROM:-0600
TZOFFSETTO:-0500
TZNAME:CDT
DTSTART:20250309T080000
END:DAYLIGHT
BEGIN:STANDARD
TZOFFSETFROM:-0500
TZOFFSETTO:-0600
TZNAME:CST
DTSTART:20251102T070000
END:STANDARD
BEGIN:DAYLIGHT
TZOFFSETFROM:-0600
TZOFFSETTO:-0500
TZNAME:CDT
DTSTART:20260308T080000
END:DAYLIGHT
BEGIN:STANDARD
TZOFFSETFROM:-0500
TZOFFSETTO:-0600
TZNAME:CST
DTSTART:20261101T070000
END:STANDARD
BEGIN:DAYLIGHT
TZOFFSETFROM:-0600
TZOFFSETTO:-0500
TZNAME:CDT
DTSTART:20270314T080000
END:DAYLIGHT
BEGIN:STANDARD
TZOFFSETFROM:-0500
TZOFFSETTO:-0600
TZNAME:CST
DTSTART:20271107T070000
END:STANDARD
END:VTIMEZONE
BEGIN:VEVENT
DTSTART;TZID=America/Chicago:20260424T180000
DTEND;TZID=America/Chicago:20260424T210000
DTSTAMP:20260424T071540
CREATED:20260424T045319Z
LAST-MODIFIED:20260424T050511Z
UID:11909-1777053600-1777064400@www.blueskc.org
SUMMARY:Turkey Bone & Full Count Band
DESCRIPTION:Gettin’ the weekend going with a great gumbo of music! Join Turkey Bone & Full Count Band on Friday\, April 24th from 6-9:00PM at Jazz Louisiana Kitchen Legends. Bring on the bon ton roulet!
URL:https://www.blueskc.org/event/turkey-bone-full-count-band/
LOCATION:Jazz\, A Louisiana Kitchen at Legends\, 1859 Village West Pkwy #102\, Kansas City\, Kansas\, United States
CATEGORIES:Musician Event
ATTACH;FMTTYPE=image/webp:https://www.blueskc.org/wp-content/uploads/2026/01/Jazz-Legends-logo.webp
END:VEVENT
BEGIN:VEVENT
DTSTART;TZID=America/Chicago:20260424T190000
DTEND;TZID=America/Chicago:20260424T220000
DTSTAMP:20260424T071540
CREATED:20260114T173508Z
LAST-MODIFIED:20260327T015359Z
UID:11063-1777057200-1777068000@www.blueskc.org
SUMMARY:Stranded in the City
DESCRIPTION:You know them\, you love them\, and you want to see them! Powerhouse Kansas City band!
URL:https://www.blueskc.org/event/stranded-in-the-city/
LOCATION:BB’s Lawnside BBQ\, 1205 E 85th St\, Kansas City\, MO\, 64131\, United States
CATEGORIES:Musician Event
ATTACH;FMTTYPE=image/webp:https://www.blueskc.org/wp-content/uploads/2026/01/BBs_logo.webp
END:VEVENT
BEGIN:VEVENT
DTSTART;TZID=America/Chicago:20260424T214500
DTEND;TZID=America/Chicago:20260424T234500
DTSTAMP:20260424T071540
CREATED:20260327T010406Z
LAST-MODIFIED:20260327T010410Z
UID:11696-1777067100-1777074300@www.blueskc.org
SUMMARY:Mike Bourne & KC Boogie
DESCRIPTION:Kansas City classic styles like Jay McShann and Big Joe Turner are alive again in this incredible room as we put original lyrics to the music that not only defined the Kansas City Sound but also launched rock and roll! They are hot hot HOT! \n\n\n\n9:45 downbeat in the Crossroads Arts district in downtown Kansas City. Come early and catch Tim Whitmer’s killer band first. Stick around late for a Kansas City Jump Blues party at one of KCs coolest venues!
URL:https://www.blueskc.org/event/mike-bourne-kc-boogie-7/
LOCATION:Black Dolphin\, 1813 Grand Boulevard\, Kansas City\, MO\, 64108\, United States
CATEGORIES:Musician Event
ATTACH;FMTTYPE=image/webp:https://www.blueskc.org/wp-content/uploads/2026/02/BlackDolphin-logo2.webp
END:VEVENT
END:VCALENDAR